BEGIN:VCALENDAR
VERSION:2.0
PRODID:gruene-wuerzburg-land.de
METHOD:PUBLISH
BEGIN:VTIMEZONE
TZID:Europe/Berlin
X-LIC-LOCATION:Europe/Berlin
BEGIN:DAYLIGHT
TZOFFSETFROM:+0100
TZOFFSETTO:+0200
TZNAME:CEST
DTSTART:19700329T020000
RRULE:FREQ=YEARLY;INTERVAL=1;BYDAY=-1SU;BYMONTH=3
END:DAYLIGHT
BEGIN:STANDARD
TZOFFSETFROM:+0200
TZOFFSETTO:+0100
TZNAME:CET
DTSTART:19701025T030000
RRULE:FREQ=YEARLY;INTERVAL=1;BYDAY=-1SU;BYMONTH=10
END:STANDARD
END:VTIMEZONE
BEGIN:VEVENT
UID:80e4740ce855675f1c70219cfe48a6b1@gruene-wuerzburg-land.de
URL;VALUE=URI:https://gruene-wuerzburg-land.de/termine/besuch-des-botanis
 chen-gartens/
LOCATION:Botanischer Garten, Julius-von-Sachs-Platz 4, 97082 Würzburg
SUMMARY:Besuch des Botanischen  Gartens
DESCRIPTION;ALTREP="data:text/html,%0A%3Cp%3ELust%20auf%20einen%20Ausflug
 %20in%20den%20Botanischen%20Garten%3F%3C%2Fp%3E%0A%0A%0A%0A%3Cp%3ETreffen
 %20wir%20uns%20am%20Freitag%2C%2015.05.2026%20um%2018%20Uhr%20zur%20F%C3%
 BChrung%3A%20%3Cbr%3E%3Cstrong%3EPaeonien%20oder%20Pfingstrosen%20%E2%80%
 93%20Rosen%20ohne%20Dornen%3F%3C%2Fstrong%3E%3C%2Fp%3E%0A%0A%0A%0A%3Cp%3E
 Bitte%20melden%20Sie%20sich%20selbst%C3%A4ndig%20an%20beim%20Botanischen%
 20Garten%2C%20Tel.%3A%20%2B49%20931%2031-86240.%20%3C%2Fp%3E%0A%0A%0A%0A%
 3Cp%3EF%C3%BCr%20Fahrgemeinschaften%20ab%20K%C3%BCrnach%20bitte%20eine%20
 Nachricht%20an%20buero%40gruene-wuerzburg-land.de%20schreiben.%3C%2Fp%3E%
 0A":Lust auf einen Ausflug in den Botanischen Garten?\n\nTreffen wir uns 
 am Freitag\, 15.05.2026 um 18 Uhr zur Führung: Paeonien oder Pfingstrose
 n – Rosen ohne Dornen?\n\nBitte melden Sie sich selbständig an beim Bo
 tanischen Garten\, Tel.: +49 931 31-86240.\n\nFür Fahrgemeinschaften ab 
 Kürnach bitte eine Nachricht an buero@gruene-wuerzburg-land.de schreiben
 .
CLASS:PUBLIC
DTSTART;TZID=Europe/Berlin:20260515T180000
DTEND;TZID=Europe/Berlin:20260515T190000
DTSTAMP:20260421T115616
END:VEVENT
END:VCALENDAR