BEGIN:VCALENDAR
VERSION:2.0
PRODID:gruene-wuerzburg-land.de
METHOD:PUBLISH
BEGIN:VTIMEZONE
TZID:Europe/Berlin
X-LIC-LOCATION:Europe/Berlin
BEGIN:DAYLIGHT
TZOFFSETFROM:+0100
TZOFFSETTO:+0200
TZNAME:CEST
DTSTART:19700329T020000
RRULE:FREQ=YEARLY;INTERVAL=1;BYDAY=-1SU;BYMONTH=3
END:DAYLIGHT
BEGIN:STANDARD
TZOFFSETFROM:+0200
TZOFFSETTO:+0100
TZNAME:CET
DTSTART:19701025T030000
RRULE:FREQ=YEARLY;INTERVAL=1;BYDAY=-1SU;BYMONTH=10
END:STANDARD
END:VTIMEZONE
BEGIN:VEVENT
UID:c87be5ac3628c27e70bffb5987c79543@gruene-wuerzburg-land.de
URL;VALUE=URI:https://gruene-wuerzburg-land.de/termine/gribs-kommunalkong
 ress/
LOCATION:Karl-Bröger-Zentrum, Karl-Bröger-Straße 9, Nürnberg
SUMMARY:GRIBS-Kommunalkongress
DESCRIPTION;ALTREP="data:text/html,%0A%3Cp%3E%3Cstrong%3EWir%20starten%20
 durch%3A%20Fit%20f%C3%BCr%20die%20neue%20Amtszeit%21%3C%2Fstrong%3E%3C%2F
 p%3E%0A%0A%0A%0A%3Cp%3EGeschafft%21%20Wahl%20und%20Konstituierung%20liege
 n%20hinter%20euch%20%E2%80%93%20jetzt%20geht%20es%20richtig%20los%20in%20
 eurer%20Kommune%21%20Mit%20guten%20Ideen%2C%20Sachverstand%20und%20Motiva
 tion%20k%C3%B6nnt%20ihr%20in%20den%20n%C3%A4chsten%20sechs%20Jahren%20gem
 einsam%20vor%20Ort%20viel%20bewegen.%20Unser%20GRIBS%20Kongress%20macht%2
 0euch%20fit%20f%C3%BCr%20die%20neue%20Amtszeit%3A%20Eine%20gelungene%20Zu
 sammenarbeit%20geh%C3%B6rt%20genauso%20dazu%20wie%20zielgerichtetes%20Vor
 gehen%2C%20gutes%20Selbstmanagement%20genauso%20wie%20die%20rechtliche%20
 Basis.%20Ihr%20bekommt%20Wissen%2C%20Werkzeuge%20und%20Anregungen%20an%20
 die%20Hand.%20F%C3%BCr%20alle%20ist%20was%20dabei%20%E2%80%93%20egal%20ob
 %20neu%20gew%C3%A4hlt%20oder%20erfahren%2C%20ob%20Einzelk%C3%A4mpfer%2Ain
 %20oder%20regierende%20Fraktion%20mit%20B%C3%BCrgermeister%2Ain%21%3C%2Fp
 %3E%0A%0A%0A%0A%3Cp%3EAls%20GRIBS%20sind%20wir%20das%20gr%C3%BCne%20kommu
 nalpolitische%20Netzwerk%20in%20Bayern.%20Nutzt%20den%20Kongress%2C%20kn%
 C3%BCpft%20neue%20Kontakte%20und%20trefft%20alte%20Bekannte.%20Lasst%20un
 s%20gemeinsam%20die%20Wahl%20feiern%20-%20und%20auf%20unseren%2040.%20Kon
 gress%20ansto%C3%9Fen%21%20Freut%20euch%20auf%20frische%20Ideen%2C%20komp
 etente%20Referent%2Ainnen%20und%20auf%20viel%20Austausch%20und%20Vernetzu
 ng.%20Herzliche%20Einladung%20an%20alle%2C%20die%20gute%2C%20erfolgreiche
 %20Kommunalpolitik%20machen%20wollen%20-%20egal%20ob%20mit%20oder%20ohne%
 20Mandat%21%3C%2Fp%3E%0A%0A%0A%0A%3Cp%3E%3Ca%20href%3D%22https%3A%2F%2Fww
 w.gribs.net%2Fpublic%2Fmenu%2F3%2Fpost%2F1%2F950%2F2872%22%20target%3D%22
 _blank%22%20rel%3D%22noreferrer%20noopener%22%3EWeitere%20Infos%20und%20A
 nmeldung%20auf%20der%20GRIBS-Homepage%3C%2Fa%3E%3C%2Fp%3E%0A%0A%0A%0A%3Cp
 %3EAnmeldeschluss%3A%2007.%20Mai%202026%3C%2Fp%3E%0A":Wir starten durch: 
 Fit für die neue Amtszeit!\n\nGeschafft! Wahl und Konstituierung liegen 
 hinter euch – jetzt geht es richtig los in eurer Kommune! Mit guten Ide
 en\, Sachverstand und Motivation könnt ihr in den nächsten sechs Jahren
  gemeinsam vor Ort viel bewegen. Unser GRIBS Kongress macht euch fit für
  die neue Amtszeit: Eine gelungene Zusammenarbeit gehört genauso dazu wi
 e zielgerichtetes Vorgehen\, gutes Selbstmanagement genauso wie die recht
 liche Basis. Ihr bekommt Wissen\, Werkzeuge und Anregungen an die Hand. F
 ür alle ist was dabei – egal ob neu gewählt oder erfahren\, ob Einzel
 kämpfer*in oder regierende Fraktion mit Bürgermeister*in!\n\nAls GRIBS 
 sind wir das grüne kommunalpolitische Netzwerk in Bayern. Nutzt den Kong
 ress\, knüpft neue Kontakte und trefft alte Bekannte. Lasst uns gemeinsa
 m die Wahl feiern - und auf unseren 40. Kongress anstoßen! Freut euch au
 f frische Ideen\, kompetente Referent*innen und auf viel Austausch und Ve
 rnetzung. Herzliche Einladung an alle\, die gute\, erfolgreiche Kommunalp
 olitik machen wollen - egal ob mit oder ohne Mandat!\n\nWeitere Infos und
  Anmeldung auf der GRIBS-Homepage\n\nAnmeldeschluss: 07. Mai 2026
CLASS:PUBLIC
DTSTART;TZID=Europe/Berlin:20260515T143000
DTEND;TZID=Europe/Berlin:20260516T163000
DTSTAMP:20260424T104420
END:VEVENT
END:VCALENDAR