BEGIN:VCALENDAR
VERSION:2.0
PRODID:gruene-wuerzburg-land.de
METHOD:PUBLISH
BEGIN:VTIMEZONE
TZID:Europe/Berlin
X-LIC-LOCATION:Europe/Berlin
BEGIN:DAYLIGHT
TZOFFSETFROM:+0100
TZOFFSETTO:+0200
TZNAME:CEST
DTSTART:19700329T020000
RRULE:FREQ=YEARLY;INTERVAL=1;BYDAY=-1SU;BYMONTH=3
END:DAYLIGHT
BEGIN:STANDARD
TZOFFSETFROM:+0200
TZOFFSETTO:+0100
TZNAME:CET
DTSTART:19701025T030000
RRULE:FREQ=YEARLY;INTERVAL=1;BYDAY=-1SU;BYMONTH=10
END:STANDARD
END:VTIMEZONE
BEGIN:VEVENT
UID:90488f8a643b481f27b9b36e54a4d5fb@gruene-wuerzburg-land.de
URL;VALUE=URI:https://gruene-wuerzburg-land.de/termine/landesparteitag-20
 26/
LOCATION:Sparkassen Arena, Niedermayerstraße 100, 84036 Landshut
SUMMARY:Landesparteitag 2026
DESCRIPTION;ALTREP="data:text/html,%0A%3Cp%3EDer%20Gr%C3%BCne%20Landesver
 band%20Bayern%20veranstaltet%20die%20Landesdelegiertenkonferenz%20%28LDK%
 29%20von%20Freitag%2C%2010.%20bis%20Samstag%2C%2011.%20Oktober%202026%20i
 n%20Landshut.%3C%2Fp%3E%0A%0A%0A%0A%3Cp%3E%3Ca%20href%3D%22https%3A%2F%2F
 www.gruene-bayern.de%2Ftermin%2Flandesparteitag-landshut%2F%22%20target%3
 D%22_blank%22%20rel%3D%22noreferrer%20noopener%22%3EWeitere%20Infos%20auf
 %20der%20Homepage%20des%20Landesverbands%3C%2Fa%3E%3C%2Fp%3E%0A":Der Grü
 ne Landesverband Bayern veranstaltet die Landesdelegiertenkonferenz (LDK)
  von Freitag\, 10. bis Samstag\, 11. Oktober 2026 in Landshut.\n\nWeitere
  Infos auf der Homepage des Landesverbands
CLASS:PUBLIC
DTSTART;TZID=Europe/Berlin:20261010
DTEND;TZID=Europe/Berlin:20261012
DTSTAMP:20260424T104311
END:VEVENT
END:VCALENDAR