BEGIN:VCALENDAR
VERSION:2.0
PRODID:gruene-wuerzburg-land.de
METHOD:PUBLISH
BEGIN:VTIMEZONE
TZID:Europe/Berlin
X-LIC-LOCATION:Europe/Berlin
BEGIN:DAYLIGHT
TZOFFSETFROM:+0100
TZOFFSETTO:+0200
TZNAME:CEST
DTSTART:19700329T020000
RRULE:FREQ=YEARLY;INTERVAL=1;BYDAY=-1SU;BYMONTH=3
END:DAYLIGHT
BEGIN:STANDARD
TZOFFSETFROM:+0200
TZOFFSETTO:+0100
TZNAME:CET
DTSTART:19701025T030000
RRULE:FREQ=YEARLY;INTERVAL=1;BYDAY=-1SU;BYMONTH=10
END:STANDARD
END:VTIMEZONE
BEGIN:VEVENT
UID:18ad5fae0d2008e1866e04009a039389@gruene-wuerzburg-land.de
URL;VALUE=URI:https://gruene-wuerzburg-land.de/termine/mitgliederversamml
 ung/
LOCATION:Grünes Büro, Textorstraße 14, 97070 Würzburg
SUMMARY:Mitgliederversammlung
DESCRIPTION;ALTREP="data:text/html,%0A%3Cp%3EMitgliederversammlung%20des%
 20Gr%C3%BCnen%20Kreisverbands%20W%C3%BCrzburg-Land.%3C%2Fp%3E%0A":Mitglie
 derversammlung des Grünen Kreisverbands Würzburg-Land.
CLASS:PUBLIC
DTSTART;TZID=Europe/Berlin:20260521T193000
DTEND;TZID=Europe/Berlin:20260521T213000
DTSTAMP:20260424T104055
END:VEVENT
END:VCALENDAR