BEGIN:VCALENDAR
VERSION:2.0
PRODID:gruene-wuerzburg-land.de
METHOD:PUBLISH
BEGIN:VTIMEZONE
TZID:Europe/Berlin
X-LIC-LOCATION:Europe/Berlin
BEGIN:DAYLIGHT
TZOFFSETFROM:+0100
TZOFFSETTO:+0200
TZNAME:CEST
DTSTART:19700329T020000
RRULE:FREQ=YEARLY;INTERVAL=1;BYDAY=-1SU;BYMONTH=3
END:DAYLIGHT
BEGIN:STANDARD
TZOFFSETFROM:+0200
TZOFFSETTO:+0100
TZNAME:CET
DTSTART:19701025T030000
RRULE:FREQ=YEARLY;INTERVAL=1;BYDAY=-1SU;BYMONTH=10
END:STANDARD
END:VTIMEZONE
BEGIN:VEVENT
UID:a7d2dee9d8afcb91a8b66425d84aeb02@gruene-wuerzburg-land.de
URL;VALUE=URI:https://gruene-wuerzburg-land.de/termine/mitgliederversamml
 ung-mit-vorstandswahl-2/
LOCATION:Würzburg
SUMMARY:Mitgliederversammlung mit Vorstandswahl
DESCRIPTION;ALTREP="data:text/html,%0A%3Cp%3EIm%20%C3%BCblichen%20zweij%C
 3%A4hrigen%20Turnus%20wird%20bei%20der%20Mitgliederversammlung%20des%20Gr
 %C3%BCnen%20Kreisverbands%20W%C3%BCrzburg-Land%20am%20Freitag%2C%2019.%20
 Juni%202026%20der%20Kreisvorstand%20neu%20gew%C3%A4hlt.%3C%2Fp%3E%0A":Im 
 üblichen zweijährigen Turnus wird bei der Mitgliederversammlung des Gr
 ünen Kreisverbands Würzburg-Land am Freitag\, 19. Juni 2026 der Kreisvo
 rstand neu gewählt.
CLASS:PUBLIC
DTSTART;TZID=Europe/Berlin:20260619T193000
DTEND;TZID=Europe/Berlin:20260619T220000
DTSTAMP:20260424T102951
END:VEVENT
END:VCALENDAR