BEGIN:VCALENDAR
VERSION:2.0
PRODID:gruene-wuerzburg-land.de
METHOD:PUBLISH
BEGIN:VTIMEZONE
TZID:Europe/Berlin
X-LIC-LOCATION:Europe/Berlin
BEGIN:DAYLIGHT
TZOFFSETFROM:+0100
TZOFFSETTO:+0200
TZNAME:CEST
DTSTART:19700329T020000
RRULE:FREQ=YEARLY;INTERVAL=1;BYDAY=-1SU;BYMONTH=3
END:DAYLIGHT
BEGIN:STANDARD
TZOFFSETFROM:+0200
TZOFFSETTO:+0100
TZNAME:CET
DTSTART:19701025T030000
RRULE:FREQ=YEARLY;INTERVAL=1;BYDAY=-1SU;BYMONTH=10
END:STANDARD
END:VTIMEZONE
BEGIN:VEVENT
UID:d749972e25457f91c762ee62cdfda4f1@gruene-wuerzburg-land.de
URL;VALUE=URI:https://gruene-wuerzburg-land.de/termine/vorstellung-der-ka
 ndidierenden-waldbuettelbrunn-rossbrunn/
LOCATION:Bürgerhaus Roßbrunn, Pfarrweg 9, Waldbüttelbrunn-Roßbrunn
SUMMARY:Vorstellung der Kandidierenden – Waldbüttelbrunn/Roßbrunn
DESCRIPTION;ALTREP="data:text/html,%0A%3Cp%3EUnsere%20Kandidierenden%20f%
 C3%BCr%20den%20Gemeinderat%20Waldb%C3%BCttelbrunn%20und%20unser%20B%C3%BC
 rgermeisterkandidat%20stellen%20sich%20und%20unser%20Programm%20f%C3%BCr%
 20unsere%20Gemeinde%20vor%20-%20kommen%20Sie%20vorbei%20und%20stellen%20S
 ie%20Ihre%20Fragen%21%20F%C3%BCr%20das%20leibliche%20Wohl%20ist%20selbstv
 erst%C3%A4ndlich%20gesorgt.%3C%2Fp%3E%0A%0A%0A%0A%3Cp%3EDie%20Veranstaltu
 ng%20findet%20am%2029.%20Januar%20um%2019%20Uhr%20im%20B%C3%BCrgerhaus%20
 Ro%C3%9Fbrunn%20statt.%3C%2Fp%3E%0A":Unsere Kandidierenden für den Gemei
 nderat Waldbüttelbrunn und unser Bürgermeisterkandidat stellen sich und
  unser Programm für unsere Gemeinde vor - kommen Sie vorbei und stellen 
 Sie Ihre Fragen! Für das leibliche Wohl ist selbstverständlich gesorgt.
 \n\nDie Veranstaltung findet am 29. Januar um 19 Uhr im Bürgerhaus Roßb
 runn statt.
CLASS:PUBLIC
DTSTART;TZID=Europe/Berlin:20260129T190000
DTEND;TZID=Europe/Berlin:20260129T190000
DTSTAMP:20260421T102905
END:VEVENT
END:VCALENDAR